BEGIN:VCALENDAR
VERSION:2.0
PRODID:-//Airbrush Academy - Airbrush Makeup and Classes - ECPv6.13.2.1//NONSGML v1.0//EN
CALSCALE:GREGORIAN
METHOD:PUBLISH
X-WR-CALNAME:Airbrush Academy - Airbrush Makeup and Classes
X-ORIGINAL-URL:https://airbrushacademy.com
X-WR-CALDESC:Events for Airbrush Academy - Airbrush Makeup and Classes
REFRESH-INTERVAL;VALUE=DURATION:PT1H
X-Robots-Tag:noindex
X-PUBLISHED-TTL:PT1H
BEGIN:VTIMEZONE
TZID:America/Chicago
BEGIN:DAYLIGHT
TZOFFSETFROM:-0600
TZOFFSETTO:-0500
TZNAME:CDT
DTSTART:20160313T080000
END:DAYLIGHT
BEGIN:STANDARD
TZOFFSETFROM:-0500
TZOFFSETTO:-0600
TZNAME:CST
DTSTART:20161106T070000
END:STANDARD
END:VTIMEZONE
BEGIN:VEVENT
DTSTART;TZID=America/Chicago:20161010T100000
DTEND;TZID=America/Chicago:20161010T180000
DTSTAMP:20260423T152651
CREATED:20160201T063011Z
LAST-MODIFIED:20160202T222452Z
UID:4796-1476093600-1476122400@airbrushacademy.com
SUMMARY:October 2016 Advanced Airbrush Makeup Class
DESCRIPTION:Learn Extreme Beauty Makeup\n\nPre-Requisite: Basic Airbrush Makeup Class\nCERTIFICATE INCLUDED. \n\n\n\n\n$197 \n$397 Value\n \n \n\n\nDate & Time\nOctober 10 @ 10:00 am – 6:00 pm \n \n \n \n\nRegister Now
URL:https://airbrushacademy.com/class/october-2016-advanced-airbrush-makeup-class/
LOCATION:Airbrush Academy\, 1441 N Ashland Ave\, Chicago\, IL\, 60642\, United States
CATEGORIES:Advanced Airbrush Makeup Class
END:VEVENT
BEGIN:VEVENT
DTSTART;TZID=America/Chicago:20160912T100000
DTEND;TZID=America/Chicago:20160912T180000
DTSTAMP:20260423T152651
CREATED:20160201T062854Z
LAST-MODIFIED:20160202T222452Z
UID:4795-1473674400-1473703200@airbrushacademy.com
SUMMARY:September 2016 Advanced Airbrush Makeup Class
DESCRIPTION:Learn Extreme Beauty Makeup\n\nPre-Requisite: Basic Airbrush Makeup Class\nCERTIFICATE INCLUDED. \n\n\n\n\n$197 \n$397 Value\n \n \n\n\nDate & Time\nSeptember 12 @ 10:00 am – 6:00 pm \n \n \n \n\nRegister Now
URL:https://airbrushacademy.com/class/september-2016-advanced-airbrush-makeup-class/
LOCATION:Airbrush Academy\, 1441 N Ashland Ave\, Chicago\, IL\, 60642\, United States
CATEGORIES:Advanced Airbrush Makeup Class
END:VEVENT
BEGIN:VEVENT
DTSTART;TZID=America/Chicago:20160808T100000
DTEND;TZID=America/Chicago:20160808T180000
DTSTAMP:20260423T152651
CREATED:20160201T062708Z
LAST-MODIFIED:20160202T222452Z
UID:4794-1470650400-1470679200@airbrushacademy.com
SUMMARY:August 2016 Advanced Airbrush Makeup Class
DESCRIPTION:Learn Extreme Beauty Makeup\n\nPre-Requisite: Basic Airbrush Makeup Class\nCERTIFICATE INCLUDED. \n\n\n\n\n$197 \n$397 Value\n \n \n\n\nDate & Time\nAugust 8 @ 10:00 am – 6:00 pm \n \n \n \n\nRegister Now
URL:https://airbrushacademy.com/class/august-2016-advanced-airbrush-makeup-class/
LOCATION:Airbrush Academy\, 1441 N Ashland Ave\, Chicago\, IL\, 60642\, United States
CATEGORIES:Advanced Airbrush Makeup Class
END:VEVENT
BEGIN:VEVENT
DTSTART;TZID=America/Chicago:20160711T100000
DTEND;TZID=America/Chicago:20160711T180000
DTSTAMP:20260423T152651
CREATED:20160201T062537Z
LAST-MODIFIED:20160202T222452Z
UID:4793-1468231200-1468260000@airbrushacademy.com
SUMMARY:July 2016 Advanced Airbrush Makeup Class
DESCRIPTION:Learn Extreme Beauty Makeup\n\nPre-Requisite: Basic Airbrush Makeup Class\nCERTIFICATE INCLUDED. \n\n\n\n\n$197 \n$397 Value\n \n \n\n\nDate & Time\nJuly 11 @ 10:00 am – 6:00 pm \n \n \n \n\nRegister Now
URL:https://airbrushacademy.com/class/july-2016-advanced-airbrush-makeup-class/
LOCATION:Airbrush Academy\, 1441 N Ashland Ave\, Chicago\, IL\, 60642\, United States
CATEGORIES:Advanced Airbrush Makeup Class
END:VEVENT
BEGIN:VEVENT
DTSTART;TZID=America/Chicago:20160613T100000
DTEND;TZID=America/Chicago:20160613T180000
DTSTAMP:20260423T152651
CREATED:20160201T062428Z
LAST-MODIFIED:20160202T222452Z
UID:4792-1465812000-1465840800@airbrushacademy.com
SUMMARY:June 2016 Advanced Airbrush Makeup Class
DESCRIPTION:Learn Extreme Beauty Makeup\n\nPre-Requisite: Basic Airbrush Makeup Class\nCERTIFICATE INCLUDED. \n\n\n\n\n$197 \n$397 Value\n \n \n\n\nDate & Time\nJune 13 @ 10:00 am – 6:00 pm \n \n \n \n\nRegister Now
URL:https://airbrushacademy.com/class/june-2016-advanced-airbrush-makeup-class/
LOCATION:Airbrush Academy\, 1441 N Ashland Ave\, Chicago\, IL\, 60642\, United States
CATEGORIES:Advanced Airbrush Makeup Class
END:VEVENT
BEGIN:VEVENT
DTSTART;TZID=America/Chicago:20160509T100000
DTEND;TZID=America/Chicago:20160509T180000
DTSTAMP:20260423T152651
CREATED:20160201T062305Z
LAST-MODIFIED:20160202T222452Z
UID:4790-1462788000-1462816800@airbrushacademy.com
SUMMARY:May 2016 Advanced Airbrush Makeup Class
DESCRIPTION:Learn Extreme Beauty Makeup\n\nPre-Requisite: Basic Airbrush Makeup Class\nCERTIFICATE INCLUDED. \n\n\n\n\n$197 \n$397 Value\n \n \n\n\nDate & Time\nMay 9 @ 10:00 am – 6:00 pm \n \n \n \n\nRegister Now
URL:https://airbrushacademy.com/class/may-2016-advanced-airbrush-makeup-class/
LOCATION:Airbrush Academy\, 1441 N Ashland Ave\, Chicago\, IL\, 60642\, United States
CATEGORIES:Advanced Airbrush Makeup Class
END:VEVENT
BEGIN:VEVENT
DTSTART;TZID=America/Chicago:20160411T100000
DTEND;TZID=America/Chicago:20160411T180000
DTSTAMP:20260423T152651
CREATED:20160201T062037Z
LAST-MODIFIED:20160202T222452Z
UID:4789-1460368800-1460397600@airbrushacademy.com
SUMMARY:April 2016 Advanced Airbrush Makeup Class
DESCRIPTION:Learn Extreme Beauty Makeup\n\nPre-Requisite: Basic Airbrush Makeup Class\nCERTIFICATE INCLUDED. \n\n\n\n\n$197 \n$397 Value\n \n \n\n\nDate & Time\nApril 11 @ 10:00 am – 6:00 pm \n \n \n \n\nRegister Now
URL:https://airbrushacademy.com/class/april-2016-advanced-airbrush-makeup-class/
LOCATION:Airbrush Academy\, 1441 N Ashland Ave\, Chicago\, IL\, 60642\, United States
CATEGORIES:Advanced Airbrush Makeup Class
END:VEVENT
BEGIN:VEVENT
DTSTART;TZID=America/Chicago:20160314T100000
DTEND;TZID=America/Chicago:20160314T180000
DTSTAMP:20260423T152651
CREATED:20160201T061829Z
LAST-MODIFIED:20160202T222452Z
UID:4788-1457949600-1457978400@airbrushacademy.com
SUMMARY:March 2016 Advanced Airbrush Makeup Class
DESCRIPTION:Learn Extreme Beauty Makeup\n\nPre-Requisite: Basic Airbrush Makeup Class\nCERTIFICATE INCLUDED. \n\n\n\n\n$197 \n$397 Value\n \n \n\n\nDate & Time\nMarch 14 @ 10:00 am – 6:00 pm \n \n \n \n\nRegister Now
URL:https://airbrushacademy.com/class/march-2016-advanced-airbrush-makeup-class/
LOCATION:Airbrush Academy\, 1441 N Ashland Ave\, Chicago\, IL\, 60642\, United States
CATEGORIES:Advanced Airbrush Makeup Class
END:VEVENT
BEGIN:VEVENT
DTSTART;TZID=America/Chicago:20160208T100000
DTEND;TZID=America/Chicago:20160208T180000
DTSTAMP:20260423T152651
CREATED:20160201T061645Z
LAST-MODIFIED:20160202T222453Z
UID:4787-1454925600-1454954400@airbrushacademy.com
SUMMARY:February 2016 Advanced Airbrush Makeup Class
DESCRIPTION:Learn Extreme Beauty Makeup\n\nPre-Requisite: Basic Airbrush Makeup Class\nCERTIFICATE INCLUDED. \n\n\n\n\n$197 \n$397 Value\n \n \n\n\nDate & Time\nFebruary 8 @ 10:00 am – 6:00 pm \n \n \n \n\nRegister Now
URL:https://airbrushacademy.com/class/february-2016-advanced-airbrush-makeup-class/
LOCATION:Airbrush Academy\, 1441 N Ashland Ave\, Chicago\, IL\, 60642\, United States
CATEGORIES:Advanced Airbrush Makeup Class
END:VEVENT
END:VCALENDAR